BEGIN:VCALENDAR
VERSION:2.0
PRODID:-//Meadows Museum, Dallas - ECPv6.15.20//NONSGML v1.0//EN
CALSCALE:GREGORIAN
METHOD:PUBLISH
X-ORIGINAL-URL:https://meadowsmuseumdallas.org
X-WR-CALDESC:Events for Meadows Museum, Dallas
REFRESH-INTERVAL;VALUE=DURATION:PT1H
X-Robots-Tag:noindex
X-PUBLISHED-TTL:PT1H
BEGIN:VTIMEZONE
TZID:America/Chicago
BEGIN:DAYLIGHT
TZOFFSETFROM:-0600
TZOFFSETTO:-0500
TZNAME:CDT
DTSTART:20250309T080000
END:DAYLIGHT
BEGIN:STANDARD
TZOFFSETFROM:-0500
TZOFFSETTO:-0600
TZNAME:CST
DTSTART:20251102T070000
END:STANDARD
BEGIN:DAYLIGHT
TZOFFSETFROM:-0600
TZOFFSETTO:-0500
TZNAME:CDT
DTSTART:20260308T080000
END:DAYLIGHT
BEGIN:STANDARD
TZOFFSETFROM:-0500
TZOFFSETTO:-0600
TZNAME:CST
DTSTART:20261101T070000
END:STANDARD
BEGIN:DAYLIGHT
TZOFFSETFROM:-0600
TZOFFSETTO:-0500
TZNAME:CDT
DTSTART:20270314T080000
END:DAYLIGHT
BEGIN:STANDARD
TZOFFSETFROM:-0500
TZOFFSETTO:-0600
TZNAME:CST
DTSTART:20271107T070000
END:STANDARD
END:VTIMEZONE
BEGIN:VEVENT
DTSTART;TZID=America/Chicago:20260430T180000
DTEND;TZID=America/Chicago:20260430T190000
DTSTAMP:20260419T080832
CREATED:20251219T175627Z
LAST-MODIFIED:20260409T213805Z
UID:10000797-1777572000-1777575600@meadowsmuseumdallas.org
SUMMARY:The Alhambra in the Age of the Spanish Enlightenment
DESCRIPTION:Andrew Schulz\, Professor of Art History\, University of Arizona \nThe eighteenth century witnessed new interest in Spain’s Islamic heritage. The most significant example of this fascination with the Islamic past is a suite of thirty-one prints entitled Antigüedadesárabes de España (Arabian Antiquities of Spain)\, issued by the Madrid Royal Academy of Fine Arts in 1787. This lecture will demonstrate how this publication offers an invaluable point of entry into eighteenth-century conceptions of Islamic Iberia. \n$10; free for SMU faculty/staff/student; free for members at the Individual level and above
URL:https://meadowsmuseumdallas.org/cal/the-alhambra-in-the-age-of-the-spanish-enlightenment/
LOCATION:Bob and Jean Smith Auditorium
CATEGORIES:Custard,Lecture
ATTACH;FMTTYPE=image/jpeg:https://meadowsmuseumdallas.org/wp-content/uploads/2025/12/meadows_1024_127_1920x1080.jpg
END:VEVENT
BEGIN:VEVENT
DTSTART;TZID=America/Chicago:20260507T190000
DTEND;TZID=America/Chicago:20260507T210000
DTSTAMP:20260419T080832
CREATED:20260325T170840Z
LAST-MODIFIED:20260325T171538Z
UID:10000931-1778180400-1778187600@meadowsmuseumdallas.org
SUMMARY:Spanish Cinema Now + 2026 in Dallas
DESCRIPTION:This year’s edition of Spanish Cinema Now + in Dallas presents a showcase of films that reflects the breadth of styles and talents at work in Spain today\, including both established auteurs and emerging filmmakers from the international festival scene. After its presentation in Washington\, DC\, the Meadows Museum will bring these films to Texas thanks to a partnership with the Cultural Office of the Embassy of Spain and Dallas Film. \nThursday\, May 7 | 7:00 p.m. \nGoat Girl / La niña de la cabra (2025) \ndirected by Ana Asensio \nIn Madrid in the late 1980s\, eight-year-old Elena prepares for her first communion while grappling with her grandmother’s death. Her friendship with Serezade\, a girl who is inseparable from her goat\, makes Elena question her worldview. La niña de la cabra premiered at the 28th Málaga Film Festival in 2025 and is the second film by Ana Asensio whose Most Beautiful Island won the SXSW Grand Jury Prize for Best Narrative Feature in 2017. \nSpain’s Institute of Cinematography and Audiovisual Arts rates this film ICAA 7+ (not recommended for audiences under seven years of age)\, but the Meadows Museum screening is intended for mature audiences only. \n95 minutes | Spanish with English subtitles \nWatch trailer
URL:https://meadowsmuseumdallas.org/cal/spanish-cinema-now-2026-in-dallas/
LOCATION:Meadows Museum\, 5900 Bishop Blvd.\, Dallas\, TX\, 75205\, United States
CATEGORIES:Film
ATTACH;FMTTYPE=image/png:https://meadowsmuseumdallas.org/wp-content/uploads/2026/03/Film-2026.05.07-Goat-Girl-La-nina-de-la-cabra.png
END:VEVENT
BEGIN:VEVENT
DTSTART;TZID=America/Chicago:20260601T090000
DTEND;TZID=America/Chicago:20260601T120000
DTSTAMP:20260419T080832
CREATED:20260114T192423Z
LAST-MODIFIED:20260114T192423Z
UID:10000928-1780304400-1780315200@meadowsmuseumdallas.org
SUMMARY:Summer Camp: Sensational Sculptures
DESCRIPTION:Students are invited to come to the Education Studio for a weeklong (June 1–5\, 9:00 a.m.–12:00 p.m. daily) summer camp where they can make artworks of their very own. Chisel and carve. Model and mold. We’ll explore the different materials used to create three-dimensional works of art\, including clay\, plaster\, and wood. Campers will also have the opportunity to explore art in the museum’s galleries and go behind the scenes to view works that are rarely exhibited. For rising 6th- through 8th-graders. \nPriority registration for members at the Individual level and above opens February 2\, 2026; registration for all others opens February 14\, 2026. \nSpace is limited; register online in advance \nChildren of Meadows Museum members at the Individual level and above: $125*\nChildren of SMU students/faculty/staff: $175\nChildren of non-members\, and members at the Paperless Pass level: $200 \n*Museum membership must be current at the time of the camp to qualify for member pricing. \n  \n 
URL:https://meadowsmuseumdallas.org/cal/summer-camp-sensational-sculptures/
LOCATION:Education Studio
CATEGORIES:Art-Making
ATTACH;FMTTYPE=image/png:https://meadowsmuseumdallas.org/wp-content/uploads/2026/01/Family-Programs-_-Summer-Camp_-Sensational-Sculptures-2026.06.01-06.05.png
END:VEVENT
BEGIN:VEVENT
DTSTART;TZID=America/Chicago:20260604T190000
DTEND;TZID=America/Chicago:20260604T210000
DTSTAMP:20260419T080832
CREATED:20260325T171338Z
LAST-MODIFIED:20260325T173001Z
UID:10000932-1780599600-1780606800@meadowsmuseumdallas.org
SUMMARY:Spanish Cinema Now + 2026 in Dallas
DESCRIPTION:This year’s edition of Spanish Cinema Now + in Dallas presents a showcase of films that reflects the breadth of styles and talents at work in Spain today\, including both established auteurs and emerging filmmakers from the international festival scene. After its presentation in Washington\, DC\, the Meadows Museum will bring these films to Texas thanks to a partnership with the Cultural Office of the Embassy of Spain and Dallas Film. \nThursday\, June 4 | 7:00 p.m. \nThe Flamenco Guitar of Yerai Cortés / La guitarra flamenca de Yerai Cortés (2024) \ndirected by C. Tangana \nThis documentary combines the power of music with a heavy family secret that must finally be revealed. Starring Yerai Cortés\, a leading figure in Spain’s contemporary flamenco scene\, the film explores passion\, love\, and forgiveness as the protagonist confronts hidden truths. Wrapped in a unique musical experience\, the story highlights flamenco as a vital means of expression while addressing Yerai’s internal conflict. \nLa guitarra flamenca de Yerai Cortés won Best Documentary Film at the 39th Goya Awards and Cineuropa declared it a “dazzling and powerful directorial debut”\, that “manages to go beyond the usual documentary to reflect the beauty and pain that often exist in human relationships.” \nSpain’s Institute of Cinematography and Audiovisual Arts rates this film ICAA 7+ (not recommended for audiences under seven years of age)\, but the Meadows Museum screening is intended for mature audiences only. \n95 minutes | Spanish with English subtitles \nWatch trailer
URL:https://meadowsmuseumdallas.org/cal/spanish-cinema-now-2026-in-dallas-2/
LOCATION:Meadows Museum\, 5900 Bishop Blvd.\, Dallas\, TX\, 75205\, United States
CATEGORIES:Film
ATTACH;FMTTYPE=image/png:https://meadowsmuseumdallas.org/wp-content/uploads/2026/03/Film-2026.06.04-The-Flamenco-Guitar-of-Yerai-Cortes-.png
END:VEVENT
BEGIN:VEVENT
DTSTART;TZID=America/Chicago:20260622T090000
DTEND;TZID=America/Chicago:20260622T120000
DTSTAMP:20260419T080832
CREATED:20260114T192845Z
LAST-MODIFIED:20260114T192845Z
UID:10000929-1782118800-1782129600@meadowsmuseumdallas.org
SUMMARY:Summer Camp: Printmaking Palooza
DESCRIPTION:It’s a Printmaking Palooza! Students are invited to come to the Education Studio for a weeklong (June 22–26\, 9:00 a.m.–12:00 p.m. daily) summer camp where they can make artworks of their very own. This camp will introduce students to a variety of techniques\, such as monoprint\, screen printing\, Gelli plate printing\, and linocut. Campers will also have the opportunity to explore art in the museum’s galleries and go behind the scenes to view works that are rarely exhibited. For rising 4th- through 6th-graders. \nPriority registration for members at the Individual level and above opens February 2\, 2026; registration for all others opens February 14\, 2026. \nSpace is limited; register online in advance \nChildren of Meadows Museum members at the Individual level and above: $125*\nChildren of SMU students/faculty/staff: $175\nChildren of non-members\, and members at the Paperless Pass level: $200 \n*Museum membership must be current at the time of the camp to qualify for member pricing. \n  \n 
URL:https://meadowsmuseumdallas.org/cal/summer-camp-printmaking-palooza/
LOCATION:Education Studio
CATEGORIES:Art-Making
ATTACH;FMTTYPE=image/png:https://meadowsmuseumdallas.org/wp-content/uploads/2026/01/Family-Programs-_-Summer-Camp_-Printmaking-Palooza-2026.06.22-06.26.png
END:VEVENT
BEGIN:VEVENT
DTSTART;TZID=America/Chicago:20260702T190000
DTEND;TZID=America/Chicago:20260702T210000
DTSTAMP:20260419T080832
CREATED:20260325T171823Z
LAST-MODIFIED:20260325T171823Z
UID:10000933-1783018800-1783026000@meadowsmuseumdallas.org
SUMMARY:Spanish Cinema Now + 2026 in Dallas
DESCRIPTION:This year’s edition of Spanish Cinema Now + in Dallas presents a showcase of films that reflects the breadth of styles and talents at work in Spain today\, including both established auteurs and emerging filmmakers from the international festival scene. After its presentation in Washington\, DC\, the Meadows Museum will bring these films to Texas thanks to a partnership with the Cultural Office of the Embassy of Spain and Dallas Film. \nThursday\, July 2 | 7:00 p.m. \nDaniela Forever (2024) \nwritten and directed by Nacho Vigalondo \nWhen Nicolas is invited to a clinical trial allowing participants to control their dreams\, he takes the plunge in hopes of recovering from the tragic loss of his girlfriend\, Daniela. But as his lucid dreams bring Daniela back to him\, Nicolas becomes obsessed with the fantasy world that he’s created and finds that his dreams aren’t as perfect as they seem.  Daniela Forever made its Spanish debut at the Sitges – International Fantastic Film Festival of Catalonia in 2024 and stars Henry Golding of Crazy Rich Asians and Beatrice Grannò of The White Lotus season two. \nSpain’s Institute of Cinematography and Audiovisual Arts rates this film ICAA 12+ (not recommended for audiences under twelve years of age)\, but the Meadows Museum screening is intended for mature audiences only. \n113 minutes | Spanish with English subtitles \nWatch trailer
URL:https://meadowsmuseumdallas.org/cal/spanish-cinema-now-2026-in-dallas-3/
LOCATION:Meadows Museum\, 5900 Bishop Blvd.\, Dallas\, TX\, 75205\, United States
CATEGORIES:Film
ATTACH;FMTTYPE=image/png:https://meadowsmuseumdallas.org/wp-content/uploads/2026/03/Film-2026.07.02-Daniela-Forever.png
END:VEVENT
END:VCALENDAR